BEGIN:VCALENDAR
VERSION:2.0
PRODID:-//Plone.org//NONSGML plone.app.event//EN
X-WR-TIMEZONE:Europe/Madrid
BEGIN:VEVENT
SUMMARY:9ª CACO (Corre o Camina) de la Dona
DTSTART;TZID=Europe/Madrid;VALUE=DATE-TIME:20260524T093000
DTEND;TZID=Europe/Madrid;VALUE=DATE-TIME:20260524T103000
DTSTAMP;VALUE=DATE-TIME:20260421T132106Z
UID:65987a380c6f79401d093bd7573df3d9
CREATED;VALUE=DATE-TIME:20260524T000000Z
CATEGORIES:Esports
LOCATION:Servei Municipal d'Esports - Passeig Can Ferrer del Mas, 2, 08770 Sant Sadurní d'Anoia (BARCELONA)
ORGANIZER:Servei Municipal d'Esports
COMMENT:Preu: Gratuït
Durada: 3 hores
DESCRIPTION:24 de maig de 2026
URL:https://www.santsadurni.cat/document.php?id=23207
END:VEVENT
END:VCALENDAR