BEGIN:VCALENDAR
VERSION:2.0
PRODID:-//Plone.org//NONSGML plone.app.event//EN
X-WR-TIMEZONE:Europe/Madrid
BEGIN:VEVENT
SUMMARY:II Sopar Solidari Aliança Catalana
DTSTART;TZID=Europe/Madrid;VALUE=DATE-TIME:20260425T200000
DTEND;TZID=Europe/Madrid;VALUE=DATE-TIME:20260425T210000
DTSTAMP;VALUE=DATE-TIME:20260421T061646Z
UID:3188f738a58007e68fc1465b24e35867
CREATED;VALUE=DATE-TIME:20260425T000000Z
LOCATION:Canals i Munné
URL:https://www.santsadurni.cat/document.php?id=23308
END:VEVENT
END:VCALENDAR