BEGIN:VCALENDAR
VERSION:2.0
PRODID:-//Plone.org//NONSGML plone.app.event//EN
X-WR-TIMEZONE:Europe/Madrid
BEGIN:VEVENT
SUMMARY:Vermut literari
DTSTART;TZID=Europe/Madrid;VALUE=DATE-TIME:20260426T123000
DTEND;TZID=Europe/Madrid;VALUE=DATE-TIME:20260426T133000
DTSTAMP;VALUE=DATE-TIME:20260421T062423Z
UID:0505718370f8e534138952ad60fd587f
CREATED;VALUE=DATE-TIME:20260426T000000Z
CATEGORIES:Literatura,Música,Vins i caves,Gastronomia
LOCATION:La Serra s/n, 08770 Sant Sadurní d'Anoia
ORGANIZER:Celler Kripta
COMMENT:Preu: Entrada lliure
Durada: 2h
URL:https://www.santsadurni.cat/document.php?id=23319
END:VEVENT
END:VCALENDAR