BEGIN:VCALENDAR
VERSION:2.0
PRODID:-//Plone.org//NONSGML plone.app.event//EN
X-WR-TIMEZONE:Europe/Madrid
BEGIN:VEVENT
SUMMARY:Concert de la banda de vent "Viu la música" de l'Escola La Pau
DTSTART;TZID=Europe/Madrid;VALUE=DATE-TIME:20260521T103000
DTEND;TZID=Europe/Madrid;VALUE=DATE-TIME:20260521T113000
DTSTAMP;VALUE=DATE-TIME:20260424T063634Z
UID:5c75a976ed6b0b87dd93897eb2b624e3
CREATED;VALUE=DATE-TIME:20260521T000000Z
CATEGORIES:Infantils,Música,Familiar
LOCATION:Plaça de l'Ajuntament
ORGANIZER:Escola La Pau amb la col·laboració de l'Escola de música municipal
COMMENT:Preu: Gratuït
Durada: De 10:30 a 12:00 hores
URL:https://www.santsadurni.cat/document.php?id=23321
END:VEVENT
END:VCALENDAR