BEGIN:VCALENDAR
VERSION:2.0
PRODID:-//Plone.org//NONSGML plone.app.event//EN
X-WR-TIMEZONE:Europe/Madrid
BEGIN:VEVENT
SUMMARY:Poesia a les Caves
DTSTART;TZID=Europe/Madrid;VALUE=DATE-TIME:20260522T200000
DTEND;TZID=Europe/Madrid;VALUE=DATE-TIME:20260522T210000
DTSTAMP;VALUE=DATE-TIME:20260419T184817Z
UID:07e5874793636b72b961176fced99b86
CREATED;VALUE=DATE-TIME:20260508T000000Z
CATEGORIES:Literatura
LOCATION:CAVES RECAREDO, CAVES RAVENTÓS I BLANCH, CAVES GIRÓ I GIRÓ
ORGANIZER:Regidoria de Cultura i Santi Borrell
COMMENT:Preu: Gratuït
Durada: Divendres de 20h a 21h dies 8, 15 i 22 de maig
DESCRIPTION:XVIII Edició del Festival de Poesia a les Caves
URL:https://www.santsadurni.cat/document.php?id=23338
END:VEVENT
END:VCALENDAR