BEGIN:VCALENDAR
VERSION:2.0
PRODID:-//Plone.org//NONSGML plone.app.event//EN
X-WR-TIMEZONE:Europe/Madrid
BEGIN:VEVENT
SUMMARY:Marató de contes a càrrec de l'alumnat de primer curs del CFGS de l'INS Intermunicipal del Penedès
DTSTART;TZID=Europe/Madrid;VALUE=DATE-TIME:20260514T173000
DTEND;TZID=Europe/Madrid;VALUE=DATE-TIME:20260514T183000
DTSTAMP;VALUE=DATE-TIME:20260424T172439Z
UID:cd0a4af07a7dfdbc7a4d154efd99779e
CREATED;VALUE=DATE-TIME:20260514T000000Z
CATEGORIES:Literatura,Infantils,Familiar
LOCATION:Biblioteca Ramon Bosch de Noya - Plaça 1er Homenatge a la Vellesa, 10
ORGANIZER:Biblioteca Municipal Ramon Bosch de Noya i INS Intermunicipal del Penedès
COMMENT:Preu: Gratuït, sense inscripció prèvia
Durada: 60 minuts aproximadament
DESCRIPTION:Per a públic familiar amb infants a partir de 3 anys, sense inscripció prèvia
URL:https://www.santsadurni.cat/document.php?id=23341
END:VEVENT
END:VCALENDAR