BEGIN:VCALENDAR
VERSION:2.0
PRODID:-//Plone.org//NONSGML plone.app.event//EN
X-WR-TIMEZONE:Europe/Madrid
BEGIN:VEVENT
SUMMARY:Mostra de Dansa 2026
DTSTART;TZID=Europe/Madrid;VALUE=DATE-TIME:20260508T180000
DTEND;TZID=Europe/Madrid;VALUE=DATE-TIME:20260508T190000
DTSTAMP;VALUE=DATE-TIME:20260419T185551Z
UID:49adc3efca984e5064f21dbdb275d8a8
CREATED;VALUE=DATE-TIME:20260508T000000Z
CATEGORIES:Dansa
LOCATION:Plaça de l'Ajuntament
ORGANIZER:Regidoria de Festes i Escoles de dansa de Sant Sadurní d'Anoia.
COMMENT:Preu: Accés lliure
Durada: Divendres 8 de maig, de 18h a 20h
DESCRIPTION:Amb la participació de diverses entitats i escoles de ball del municipi
URL:https://www.santsadurni.cat/document.php?id=23346
END:VEVENT
END:VCALENDAR