BEGIN:VCALENDAR
VERSION:2.0
PRODID:-//Plone.org//NONSGML plone.app.event//EN
X-WR-TIMEZONE:Europe/Madrid
BEGIN:VEVENT
SUMMARY:Parada d'intercanvi de llibres per la diada de Sant Jordi
DTSTART;TZID=Europe/Madrid;VALUE=DATE-TIME:20260423T170000
DTEND;TZID=Europe/Madrid;VALUE=DATE-TIME:20260423T180000
DTSTAMP;VALUE=DATE-TIME:20260419T203238Z
UID:03c553ab369909f424685712fa399c4c
CREATED;VALUE=DATE-TIME:20260423T000000Z
CATEGORIES:Festa,Literatura
LOCATION:Plaça de l'Ajuntament
ORGANIZER:BANC DE TEMPS DE SANT SADURNÍ D'ANOIA
COMMENT:Preu: gratuït
Durada: De 17 a 20 hores
URL:https://www.santsadurni.cat/document.php?id=23347
END:VEVENT
END:VCALENDAR