BEGIN:VCALENDAR
VERSION:2.0
PRODID:-//Plone.org//NONSGML plone.app.event//EN
X-WR-TIMEZONE:Europe/Madrid
BEGIN:VEVENT
SUMMARY:Cicle Gaudí "Sirat"
DTSTART;TZID=Europe/Madrid;VALUE=DATE-TIME:20260531T180000
DTEND;TZID=Europe/Madrid;VALUE=DATE-TIME:20260531T190000
DTSTAMP;VALUE=DATE-TIME:20260419T183555Z
UID:47d255a356cb3f95cd59f47499e71d8a
CREATED;VALUE=DATE-TIME:20260531T000000Z
CATEGORIES:Cinema
LOCATION:Celler Fassina Can Guineu - c/ Sant Pere, 42
ORGANIZER:Regidoria de Cultura
COMMENT:Preu: 4,50&euro;
Durada: UN DIUMENGE AL MES
URL:https://www.santsadurni.cat/document.php?id=23348
END:VEVENT
END:VCALENDAR