BEGIN:VCALENDAR
VERSION:2.0
PRODID:-//Plone.org//NONSGML plone.app.event//EN
X-WR-TIMEZONE:Europe/Madrid
BEGIN:VEVENT
SUMMARY:Presentació de la novel·la &OpenCurlyDoubleQuote;La gran família&CloseCurlyDoubleQuote; d'Antònia Carré-Pons, premi Òmnium a la millor novel·la de l´any 2025
DTSTART;TZID=Europe/Madrid;VALUE=DATE-TIME:20260511T190000
DTEND;TZID=Europe/Madrid;VALUE=DATE-TIME:20260511T200000
DTSTAMP;VALUE=DATE-TIME:20260424T145255Z
UID:7276ccd148b2bde7c0c4e4e4f3aa2bdb
CREATED;VALUE=DATE-TIME:20260511T000000Z
CATEGORIES:Literatura
LOCATION:Biblioteca Ramon Bosch de Noya - Plaça 1er Homenatge a la Vellesa, 10
ORGANIZER:Òmnium Cultural Alt Penedès
URL:https://www.santsadurni.cat/document.php?id=23351
END:VEVENT
END:VCALENDAR