BEGIN:VCALENDAR
VERSION:2.0
PRODID:-//Plone.org//NONSGML plone.app.event//EN
X-WR-TIMEZONE:Europe/Madrid
BEGIN:VEVENT
SUMMARY:Club de lectura obert amb Sílvia Romero per comentar la seva novel·la "La noia del retrat"
DTSTART;TZID=Europe/Madrid;VALUE=DATE-TIME:20260508T183000
DTEND;TZID=Europe/Madrid;VALUE=DATE-TIME:20260508T193000
DTSTAMP;VALUE=DATE-TIME:20260424T150002Z
UID:0025f53663ff0950913b80943d26f05b
CREATED;VALUE=DATE-TIME:20260508T000000Z
CATEGORIES:Literatura
LOCATION:Biblioteca Ramon Bosch de Noya - Plaça 1er Homenatge a la Vellesa, 10
ORGANIZER:Biblioteca Municipal amb la col·laboració del Departament de Cultura de la Generalitat i de la Institució de les Lletres Catalanes
URL:https://www.santsadurni.cat/document.php?id=23361
END:VEVENT
END:VCALENDAR