BEGIN:VCALENDAR
VERSION:2.0
PRODID:-//Plone.org//NONSGML plone.app.event//EN
X-WR-TIMEZONE:Europe/Madrid
BEGIN:VEVENT
SUMMARY:Inauguració de l'exposició "Art Sant Josep" recull de treballs de Batxillerat Artístic sobre dibuix artístic, disseny i cultura audiovisual i de les vitines d'art de Patchwork del Taller del Centre Vilarnau
DTSTART;TZID=Europe/Madrid;VALUE=DATE-TIME:20260507T190000
DTEND;TZID=Europe/Madrid;VALUE=DATE-TIME:20260507T200000
DTSTAMP;VALUE=DATE-TIME:20260424T145353Z
UID:e5fe004f301952b93771a247c6b4c342
CREATED;VALUE=DATE-TIME:20260507T000000Z
CATEGORIES:Exposició,Mostra,Literatura
LOCATION:Biblioteca Ramon Bosch de Noya - Plaça 1er Homenatge a la Vellesa, 10
ORGANIZER:Col·legi Sant Josep
DESCRIPTION:L'exposició es podrà visitar del 7 al 28 de maig
URL:https://www.santsadurni.cat/document.php?id=23362
END:VEVENT
END:VCALENDAR