BEGIN:VCALENDAR
VERSION:2.0
PRODID:-//Plone.org//NONSGML plone.app.event//EN
X-WR-TIMEZONE:Europe/Madrid
BEGIN:VEVENT
SUMMARY:Club de lectura de reflexió crítica "En present", comentari del llibre "Conexiones perdidas, causas reales y soluciones inesperadas para la depresión" de Johann Hari
DTSTART;TZID=Europe/Madrid;VALUE=DATE-TIME:20260513T183000
DTEND;TZID=Europe/Madrid;VALUE=DATE-TIME:20260513T193000
DTSTAMP;VALUE=DATE-TIME:20260424T145641Z
UID:b2146676fd278672d506d091ba3d43ed
CREATED;VALUE=DATE-TIME:20260513T000000Z
CATEGORIES:Literatura,Conferència,Formació
LOCATION:Biblioteca Ramon Bosch de Noya - Plaça 1er Homenatge a la Vellesa, 10
ORGANIZER:Biblioteca Municipal i Oriol Noya
COMMENT:Preu: Gratuït, amb inscripció prèvia
URL:https://www.santsadurni.cat/document.php?id=23365
END:VEVENT
END:VCALENDAR