BEGIN:VCALENDAR
VERSION:2.0
PRODID:-//Plone.org//NONSGML plone.app.event//EN
X-WR-TIMEZONE:Europe/Madrid
BEGIN:VEVENT
SUMMARY:Visita familiar al Cava Centre
DTSTART;TZID=Europe/Madrid;VALUE=DATE-TIME:20260531T110000
DTEND;TZID=Europe/Madrid;VALUE=DATE-TIME:20260531T120000
DTSTAMP;VALUE=DATE-TIME:20260424T034419Z
UID:835dbdb0ca370d4dce272b286f7dd549
CREATED;VALUE=DATE-TIME:20260531T000000Z
CATEGORIES:Infantils,Visita guiada,Familiar
LOCATION:Cava Centre - Cr. Hospital 23 (entrada al Centre i a l'Oficina de Turisme)
ORGANIZER:Ajuntament de Sant Sadurní d'Anoia
Servei de Turisme
COMMENT:Preu: 2,50 . Gratuït amb carnet Súper3 i carnet docent.
Durada: 1 hora
DESCRIPTION:Escalfem motors per la Festa dels Barris!
URL:https://www.santsadurni.cat/document.php?id=23377
END:VEVENT
END:VCALENDAR