BEGIN:VCALENDAR
VERSION:2.0
PRODID:-//Plone.org//NONSGML plone.app.event//EN
X-WR-TIMEZONE:Europe/Madrid
BEGIN:VEVENT
SUMMARY:Visita i tast del cava del mes al Cava Centre
DTSTART;TZID=Europe/Madrid;VALUE=DATE-TIME:20260430T000000
DTEND;TZID=Europe/Madrid;VALUE=DATE-TIME:20260430T010000
DTSTAMP;VALUE=DATE-TIME:20260420T202902Z
UID:e857131db15b07b779c3f113cf80d470
CREATED;VALUE=DATE-TIME:20260421T000000Z
CATEGORIES:Visita guiada,Vins i caves
LOCATION:Cava Centre - Cr. Hospital 23 (entrada al Centre i a l'Oficina de Turisme)
ORGANIZER:Ajuntament de Sant Sadurní d'Anoia
Servei de Turisme
COMMENT:Preu: 6,00 &euro;. Descomptes per a infants, jubilats/des i grups
Durada: 1 hora
DESCRIPTION:Celebra Sant Jordi al Cava Centre amb una experiència audiovisual i tast de cava rosat Montse, de Covides Vinyes · Cellers
URL:https://www.santsadurni.cat/document.php?id=23379
END:VEVENT
END:VCALENDAR