BEGIN:VCALENDAR
VERSION:2.0
PRODID:-//Plone.org//NONSGML plone.app.event//EN
X-WR-TIMEZONE:Europe/Madrid
BEGIN:VEVENT
SUMMARY:L'OAC mòbil a Sant Sadurní
DTSTART;TZID=Europe/Madrid;VALUE=DATE-TIME:20260422T090000
DTEND;TZID=Europe/Madrid;VALUE=DATE-TIME:20260422T100000
DTSTAMP;VALUE=DATE-TIME:20260422T151640Z
UID:2a16e0303bdf2bd36061c82c1fc1dfc5
CREATED;VALUE=DATE-TIME:20260422T000000Z
LOCATION:Pl. Era d'en Guineu
COMMENT:Durada: De 9 a 11h
DESCRIPTION:Ja pots rebre atenció presencial per fer gestions amb la Generalitat
URL:https://www.santsadurni.cat/document.php?id=23399
END:VEVENT
END:VCALENDAR