BEGIN:VCALENDAR
VERSION:2.0
PRODID:-//Plone.org//NONSGML plone.app.event//EN
X-WR-TIMEZONE:Europe/Madrid
BEGIN:VEVENT
SUMMARY:Ple municipal
DTSTART;TZID=Europe/Madrid;VALUE=DATE-TIME:20260428T193000
DTEND;TZID=Europe/Madrid;VALUE=DATE-TIME:20260428T203000
DTSTAMP;VALUE=DATE-TIME:20260424T144256Z
UID:cecee9ff17a398677e7dbf7c8e0ba35f
CREATED;VALUE=DATE-TIME:20260428T000000Z
CATEGORIES:Ajuntament
LOCATION:Ajuntament de Sant Sadurní
URL:https://www.santsadurni.cat/document.php?id=23419
END:VEVENT
END:VCALENDAR