BEGIN:VCALENDAR
VERSION:2.0
PRODID:-//Plone.org//NONSGML plone.app.event//EN
X-WR-TIMEZONE:Europe/Madrid
BEGIN:VEVENT
SUMMARY:Dia internacional per l'eliminació de la violència vers les dones
DTSTART;TZID=Europe/Madrid;VALUE=DATE-TIME:20151125T000000
DTEND;TZID=Europe/Madrid;VALUE=DATE-TIME:20151125T010000
DTSTAMP;VALUE=DATE-TIME:20260421T193108Z
UID:49a3205c8797b5d6569293fb644759df
CREATED;VALUE=DATE-TIME:20151125T000000Z
CATEGORIES:Mostra
LOCATION:Plaça de l'Ajuntament
ORGANIZER:Departament d'Igualtat. Ajuntament Sant Sadurní d'Anoia
URL:https://www.santsadurni.cat/document.php?id=5723
END:VEVENT
END:VCALENDAR