BEGIN:VCALENDAR
VERSION:2.0
PRODID:-//Plone.org//NONSGML plone.app.event//EN
X-WR-TIMEZONE:Europe/Madrid
BEGIN:VEVENT
SUMMARY:Festa Major
DTSTART;TZID=Europe/Madrid;VALUE=DATE-TIME:20151126T000000
DTEND;TZID=Europe/Madrid;VALUE=DATE-TIME:20151126T010000
DTSTAMP;VALUE=DATE-TIME:20260421T193405Z
UID:674e54553f5f51454c1644f0f991be2d
CREATED;VALUE=DATE-TIME:20151126T000000Z
URL:https://www.santsadurni.cat/document.php?id=6021
END:VEVENT
END:VCALENDAR