BEGIN:VCALENDAR
VERSION:2.0
PRODID:-//Plone.org//NONSGML plone.app.event//EN
X-WR-TIMEZONE:Europe/Madrid
BEGIN:VEVENT
SUMMARY:Xerrada i exercici de moviment Katsugen
DTSTART;TZID=Europe/Madrid;VALUE=DATE-TIME:20160514T163000
DTEND;TZID=Europe/Madrid;VALUE=DATE-TIME:20160514T173000
DTSTAMP;VALUE=DATE-TIME:20260425T005956Z
UID:d700d24166c4629dc72c7a691aa18330
CREATED;VALUE=DATE-TIME:20160514T000000Z
CATEGORIES:Conferència,Formació
LOCATION:Casal d'Entitats - Cr. Marc Mir, 15
ORGANIZER:Associació grup Respcte
URL:https://www.santsadurni.cat/document.php?id=6038
END:VEVENT
END:VCALENDAR