BEGIN:VCALENDAR
VERSION:2.0
PRODID:-//Plone.org//NONSGML plone.app.event//EN
X-WR-TIMEZONE:Europe/Madrid
BEGIN:VEVENT
SUMMARY:Xerrada i exercici de moviment Katsugen
DTSTART;TZID=Europe/Madrid;VALUE=DATE-TIME:20160528T163000
DTEND;TZID=Europe/Madrid;VALUE=DATE-TIME:20160528T173000
DTSTAMP;VALUE=DATE-TIME:20260421T132035Z
UID:9f3fd84f7c2f7b6af0c122ec7098bc92
CREATED;VALUE=DATE-TIME:20160528T000000Z
CATEGORIES:Conferència,Formació
LOCATION:Casal d'Entitats - Cr. Marc Mir, 15
ORGANIZER:Associació grup Respcte
URL:https://www.santsadurni.cat/document.php?id=6039
END:VEVENT
END:VCALENDAR