BEGIN:VCALENDAR
VERSION:2.0
PRODID:-//Plone.org//NONSGML plone.app.event//EN
X-WR-TIMEZONE:Europe/Madrid
BEGIN:VEVENT
SUMMARY:Ple Municipal Extraordinari: Sorteig Meses Eleccions 20D
DTSTART;TZID=Europe/Madrid;VALUE=DATE-TIME:20151123T130000
DTEND;TZID=Europe/Madrid;VALUE=DATE-TIME:20151123T140000
DTSTAMP;VALUE=DATE-TIME:20260421T193236Z
UID:df4fd7b633fe2b388390280784aa7804
CREATED;VALUE=DATE-TIME:20151123T000000Z
LOCATION:Ajuntament de Sant Sadurní - Pl. Ajuntament 1
URL:https://www.santsadurni.cat/document.php?id=6054
END:VEVENT
END:VCALENDAR