BEGIN:VCALENDAR
VERSION:2.0
PRODID:-//Plone.org//NONSGML plone.app.event//EN
X-WR-TIMEZONE:Europe/Madrid
BEGIN:VEVENT
SUMMARY:Campionat de petanca de dimecres (jubilats)
DTSTART;TZID=Europe/Madrid;VALUE=DATE-TIME:20160518T160000
DTEND;TZID=Europe/Madrid;VALUE=DATE-TIME:20160518T170000
DTSTAMP;VALUE=DATE-TIME:20260425T020534Z
UID:eda25c6cce680d50dfa61f3bc3fa5de8
CREATED;VALUE=DATE-TIME:20160518T000000Z
CATEGORIES:Esports
LOCATION:Pistes Municipals de Petanca - Zona Gat Cendrer
ORGANIZER:Club de petanca Sant Sadurní
URL:https://www.santsadurni.cat/document.php?id=6463
END:VEVENT
END:VCALENDAR