BEGIN:VCALENDAR
VERSION:2.0
PRODID:-//Plone.org//NONSGML plone.app.event//EN
X-WR-TIMEZONE:Europe/Madrid
BEGIN:VEVENT
SUMMARY:Ball amb Duet Melody
DTSTART;TZID=Europe/Madrid;VALUE=DATE-TIME:20160515T193000
DTEND;TZID=Europe/Madrid;VALUE=DATE-TIME:20160515T203000
DTSTAMP;VALUE=DATE-TIME:20260425T005352Z
UID:593107a2d619c849238ef4c8a958e3a6
CREATED;VALUE=DATE-TIME:20160515T000000Z
CATEGORIES:Música
LOCATION:Sala del Teatre de l'Ateneu
ORGANIZER:Ateneu Agrícola
COMMENT:Preu: Soci: 3&euro;, General: 6&euro;
URL:https://www.santsadurni.cat/document.php?id=6848
END:VEVENT
END:VCALENDAR