BEGIN:VCALENDAR
VERSION:2.0
PRODID:-//Plone.org//NONSGML plone.app.event//EN
X-WR-TIMEZONE:Europe/Madrid
BEGIN:VEVENT
SUMMARY:Conferència. Testimonis cristians de Jehovà
DTSTART;TZID=Europe/Madrid;VALUE=DATE-TIME:20160515T110000
DTEND;TZID=Europe/Madrid;VALUE=DATE-TIME:20160515T120000
DTSTAMP;VALUE=DATE-TIME:20260425T005412Z
UID:071bdd30a0856cc1801f815864fa62ad
CREATED;VALUE=DATE-TIME:20160515T000000Z
CATEGORIES:Conferència
LOCATION:Passeig del Parc nº1
COMMENT:Preu: Gratuït
Durada: Tots els diumenges
URL:https://www.santsadurni.cat/document.php?id=6854
END:VEVENT
END:VCALENDAR