BEGIN:VCALENDAR
VERSION:2.0
PRODID:-//Plone.org//NONSGML plone.app.event//EN
X-WR-TIMEZONE:Europe/Madrid
BEGIN:VEVENT
SUMMARY:Xerrada sobre projectes de desenvolupament a la Índia
DTSTART;TZID=Europe/Madrid;VALUE=DATE-TIME:20160519T150000
DTEND;TZID=Europe/Madrid;VALUE=DATE-TIME:20160519T160000
DTSTAMP;VALUE=DATE-TIME:20260425T031018Z
UID:7b37f9f37fba1026f187f6482def86b4
CREATED;VALUE=DATE-TIME:20160519T000000Z
CATEGORIES:Conferència
LOCATION:CEIP La Pau
ORGANIZER:Mans Unides Sant Sadurní
DESCRIPTION:Projectes de Mans Unides a l'Índia
URL:https://www.santsadurni.cat/document.php?id=6871
END:VEVENT
END:VCALENDAR