BEGIN:VCALENDAR
VERSION:2.0
PRODID:-//Plone.org//NONSGML plone.app.event//EN
X-WR-TIMEZONE:Europe/Madrid
BEGIN:VEVENT
SUMMARY:10 anys de timbalers Tabalots
DTSTART;TZID=Europe/Madrid;VALUE=DATE-TIME:20160514T220000
DTEND;TZID=Europe/Madrid;VALUE=DATE-TIME:20160514T230000
DTSTAMP;VALUE=DATE-TIME:20260425T031757Z
UID:bf6040f576e8dfb721e1dadb4a8a479c
CREATED;VALUE=DATE-TIME:20160514T000000Z
CATEGORIES:Festa,Música
LOCATION:Recorregut des de c/ Doctor Barraquer fins al parc de la Rambla
URL:https://www.santsadurni.cat/document.php?id=6926
END:VEVENT
END:VCALENDAR