BEGIN:VCALENDAR
VERSION:2.0
PRODID:-//Plone.org//NONSGML plone.app.event//EN
X-WR-TIMEZONE:Europe/Madrid
BEGIN:VEVENT
SUMMARY:Laboratori de lectura
DTSTART;TZID=Europe/Madrid;VALUE=DATE-TIME:20160525T173000
DTEND;TZID=Europe/Madrid;VALUE=DATE-TIME:20160525T183000
DTSTAMP;VALUE=DATE-TIME:20260421T101619Z
UID:29f073863a4ad4353446981a464541ce
CREATED;VALUE=DATE-TIME:20160525T000000Z
CATEGORIES:Literatura,Infantils
LOCATION:Biblioteca Ramon Bosch de Noya - Cr. Sant Pere, 36
ORGANIZER:Biblioteca Municipal Ramon Bosch de Noya
DESCRIPTION:"L'Armari de l'Olívia" per a famílies amb nens i nenes dels 4 als 9 anys. Inscripcions a partir del 10 de maig
URL:https://www.santsadurni.cat/document.php?id=6954
END:VEVENT
END:VCALENDAR