BEGIN:VCALENDAR
VERSION:2.0
PRODID:-//Plone.org//NONSGML plone.app.event//EN
X-WR-TIMEZONE:Europe/Madrid
BEGIN:VEVENT
SUMMARY:Tallers gratuïts Nenoos
DTSTART;TZID=Europe/Madrid;VALUE=DATE-TIME:20160514T110000
DTEND;TZID=Europe/Madrid;VALUE=DATE-TIME:20160514T120000
DTSTAMP;VALUE=DATE-TIME:20260425T005428Z
UID:a7b3043603e25855647e38f98ce017f6
CREATED;VALUE=DATE-TIME:20160514T000000Z
CATEGORIES:Infantils,Formació
LOCATION:See you formació, C/Raval 21
ORGANIZER:See you formació / NENOOS
COMMENT:Preu: 0&euro;
DESCRIPTION:Per nens/es de 3 a 12 anys
URL:https://www.santsadurni.cat/document.php?id=6965
END:VEVENT
END:VCALENDAR