BEGIN:VCALENDAR
VERSION:2.0
PRODID:-//Plone.org//NONSGML plone.app.event//EN
X-WR-TIMEZONE:Europe/Madrid
BEGIN:VEVENT
SUMMARY:Taller de ceràmica. Mercè Beneit Oliver
DTSTART;TZID=Europe/Madrid;VALUE=DATE-TIME:20160520T173000
DTEND;TZID=Europe/Madrid;VALUE=DATE-TIME:20160520T183000
DTSTAMP;VALUE=DATE-TIME:20260425T043102Z
UID:3cdadddb35547e81880c89f5bd096b3e
CREATED;VALUE=DATE-TIME:20160520T000000Z
CATEGORIES:Cursos
LOCATION:El Taller. c/Pi i Margall-14
ORGANIZER:El Taller.ceràmica. Mercè Beneit Oliver
COMMENT:Preu: Consultar al tel 639439189
Durada: Divendres dia 13 i 20 de maig
DESCRIPTION:Fem fang
URL:https://www.santsadurni.cat/document.php?id=6970
END:VEVENT
END:VCALENDAR