BEGIN:VCALENDAR
VERSION:2.0
PRODID:-//Plone.org//NONSGML plone.app.event//EN
X-WR-TIMEZONE:Europe/Madrid
BEGIN:VEVENT
SUMMARY:Paella familiar a Caves Vilarnau
DTSTART;TZID=Europe/Madrid;VALUE=DATE-TIME:20160522T100000
DTEND;TZID=Europe/Madrid;VALUE=DATE-TIME:20160522T110000
DTSTAMP;VALUE=DATE-TIME:20260425T054855Z
UID:1c22306a570a0ef39d05bd586196f1cb
CREATED;VALUE=DATE-TIME:20160522T000000Z
CATEGORIES:Infantils,Vins i caves,Gastronomia
LOCATION:Caves Vilarnau
ORGANIZER:Catering Cal Blay i Caves Vilarnau
COMMENT:Preu: 29 &euro; adults / 15 &euro; nens amb taller
DESCRIPTION:Diverteix-te i gaudeix de la familia
URL:https://www.santsadurni.cat/document.php?id=6988
END:VEVENT
END:VCALENDAR