BEGIN:VCALENDAR
VERSION:2.0
PRODID:-//Plone.org//NONSGML plone.app.event//EN
X-WR-TIMEZONE:Europe/Madrid
BEGIN:VEVENT
SUMMARY:Taller del cicle menstrual
DTSTART;TZID=Europe/Madrid;VALUE=DATE-TIME:20160521T110000
DTEND;TZID=Europe/Madrid;VALUE=DATE-TIME:20160521T120000
DTSTAMP;VALUE=DATE-TIME:20260425T054722Z
UID:0a848ecfdd301251fecccc43fe54bcc4
CREATED;VALUE=DATE-TIME:20160521T000000Z
CATEGORIES:Formació
LOCATION:Casal popular El Carràs
ORGANIZER:La Sina Rebel
COMMENT:Preu: Gratuït però cal inscripció prèvia: lasinarebel@gmail.com
Durada: 2 hores
DESCRIPTION:Setmana salut de les dones
URL:https://www.santsadurni.cat/document.php?id=7041
END:VEVENT
END:VCALENDAR