BEGIN:VCALENDAR
VERSION:2.0
PRODID:-//Plone.org//NONSGML plone.app.event//EN
X-WR-TIMEZONE:Europe/Madrid
BEGIN:VEVENT
SUMMARY:La tasca d'Ampert i la prevenció del càncer de mama
DTSTART;TZID=Europe/Madrid;VALUE=DATE-TIME:20160523T190000
DTEND;TZID=Europe/Madrid;VALUE=DATE-TIME:20160523T200000
DTSTAMP;VALUE=DATE-TIME:20260421T101551Z
UID:bacc608533fa2c2672458443e15f73e1
CREATED;VALUE=DATE-TIME:20160523T000000Z
CATEGORIES:Conferència
LOCATION:Casal d'Entitats - Cr. Marc Mir, 15
ORGANIZER:Ampert
DESCRIPTION:Setmana salut de les dones
URL:https://www.santsadurni.cat/document.php?id=7042
END:VEVENT
END:VCALENDAR