BEGIN:VCALENDAR
VERSION:2.0
PRODID:-//Plone.org//NONSGML plone.app.event//EN
X-WR-TIMEZONE:Europe/Madrid
BEGIN:VEVENT
SUMMARY:Jornades de Portes Obertes al CIC Fassina
DTSTART;TZID=Europe/Madrid;VALUE=DATE-TIME:20160522T000000
DTEND;TZID=Europe/Madrid;VALUE=DATE-TIME:20160522T010000
DTSTAMP;VALUE=DATE-TIME:20260425T055406Z
UID:de09a675aa7852fe8517a1114195beb9
CREATED;VALUE=DATE-TIME:20160522T000000Z
CATEGORIES:Exposició
LOCATION:CIC Fassina &ndash; Centre d'Interpretació del Cava - Cr. Hospital 23 (entrada al Centre i a l'Oficina de Turisme)
COMMENT:Preu: Gratuït
DESCRIPTION:El CIC Fassina amb el dia Internacional dels Museus 2016
URL:https://www.santsadurni.cat/document.php?id=7091
END:VEVENT
END:VCALENDAR