BEGIN:VCALENDAR
VERSION:2.0
PRODID:-//Plone.org//NONSGML plone.app.event//EN
X-WR-TIMEZONE:Europe/Madrid
BEGIN:VEVENT
SUMMARY:Barris 2016: Ajuntament
DTSTART;TZID=Europe/Madrid;VALUE=DATE-TIME:20160526T000000
DTEND;TZID=Europe/Madrid;VALUE=DATE-TIME:20160526T010000
DTSTAMP;VALUE=DATE-TIME:20260421T160445Z
UID:2649180a1870b0cce035a6aaed591edf
CREATED;VALUE=DATE-TIME:20160526T000000Z
COMMENT:Durada: Tot el dia
URL:https://www.santsadurni.cat/document.php?id=7127
END:VEVENT
END:VCALENDAR