BEGIN:VCALENDAR
VERSION:2.0
PRODID:-//Plone.org//NONSGML plone.app.event//EN
X-WR-TIMEZONE:Europe/Madrid
BEGIN:VEVENT
SUMMARY:Barris 2016; Sant Antoni i Rengle Ajuntament
DTSTART;TZID=Europe/Madrid;VALUE=DATE-TIME:20160527T000000
DTEND;TZID=Europe/Madrid;VALUE=DATE-TIME:20160527T010000
DTSTAMP;VALUE=DATE-TIME:20260421T155954Z
UID:4d9937acc48cc01bd11b112cd149e9b3
CREATED;VALUE=DATE-TIME:20160527T000000Z
COMMENT:Durada: Tot el dia
URL:https://www.santsadurni.cat/document.php?id=7128
END:VEVENT
END:VCALENDAR