BEGIN:VCALENDAR
VERSION:2.0
PRODID:-//Plone.org//NONSGML plone.app.event//EN
X-WR-TIMEZONE:Europe/Madrid
BEGIN:VEVENT
SUMMARY:Club de lectura de la Gent Gran
DTSTART;TZID=Europe/Madrid;VALUE=DATE-TIME:20160527T170000
DTEND;TZID=Europe/Madrid;VALUE=DATE-TIME:20160527T180000
DTSTAMP;VALUE=DATE-TIME:20260421T124817Z
UID:11a4d015f6ae66631c93f115a711053a
CREATED;VALUE=DATE-TIME:20160527T000000Z
CATEGORIES:Literatura
LOCATION:ESPAI "La Caixa". Carrer Sant Antoni
ORGANIZER:Associació de Jubilats Sant Sadurní d'Anoia. ESPAI "La Caixa"
COMMENT:Preu: sense preu
Durada: Tots els divendres de cada mes a les 17h
DESCRIPTION:Aprofundiment del relat
URL:https://www.santsadurni.cat/document.php?id=7261
END:VEVENT
END:VCALENDAR