BEGIN:VCALENDAR
VERSION:2.0
PRODID:-//Plone.org//NONSGML plone.app.event//EN
X-WR-TIMEZONE:Europe/Madrid
BEGIN:VEVENT
SUMMARY:Espai lliure
DTSTART;TZID=Europe/Madrid;VALUE=DATE-TIME:20171103T170000
DTEND;TZID=Europe/Madrid;VALUE=DATE-TIME:20171103T180000
DTSTAMP;VALUE=DATE-TIME:20260425T022553Z
UID:186961b79d83a0927565c32912b723d3
CREATED;VALUE=DATE-TIME:20170407T000000Z
LOCATION:Taller d'Orsy. Carrer Sant Antoni, 45
ORGANIZER:Taller d'Orsy
COMMENT:Preu: gratuït
Durada: El primer divendres de cada mes
URL:https://www.santsadurni.cat/document.php?id=8919
END:VEVENT
END:VCALENDAR