BEGIN:VCALENDAR
VERSION:2.0
PRODID:-//Plone.org//NONSGML plone.app.event//EN
X-WR-TIMEZONE:Europe/Madrid
BEGIN:VEVENT
SUMMARY:Rebuda i benvinguda dels infants sahrauís
DTSTART;TZID=Europe/Madrid;VALUE=DATE-TIME:20170717T183000
DTEND;TZID=Europe/Madrid;VALUE=DATE-TIME:20170717T193000
DTSTAMP;VALUE=DATE-TIME:20260424T234421Z
UID:73fba5aa2d894789f069156ae9a39c40
CREATED;VALUE=DATE-TIME:20170717T000000Z
LOCATION:Sala de plens de l'Ajuntament
DESCRIPTION:9a. Quinzena solidària
URL:https://www.santsadurni.cat/document.php?id=9123
END:VEVENT
END:VCALENDAR