BEGIN:VCALENDAR
VERSION:2.0
PRODID:-//Plone.org//NONSGML plone.app.event//EN
X-WR-TIMEZONE:Europe/Madrid
BEGIN:VEVENT
SUMMARY:L'Istiu 17 -Mireia Vilalta-
DTSTART;TZID=Europe/Madrid;VALUE=DATE-TIME:20170706T223000
DTEND;TZID=Europe/Madrid;VALUE=DATE-TIME:20170706T233000
DTSTAMP;VALUE=DATE-TIME:20260424T223509Z
UID:950a6e19c2b238b677ad30b69eefeb87
CREATED;VALUE=DATE-TIME:20170706T000000Z
CATEGORIES:Música
LOCATION:Índex. Servei de Joventut - Cr. Pompeu Fabra, 34
ORGANIZER:Regidoria de Joventut
COMMENT:Preu: Entrada gratuïta
DESCRIPTION:Apnea és el primer disc en solitari de Mireia Vilalta. Un àlbum ple de detalls i matisos que impregnen les cançons de potència i energia.
URL:https://www.santsadurni.cat/document.php?id=9218
END:VEVENT
END:VCALENDAR