BEGIN:VCALENDAR
VERSION:2.0
PRODID:-//Plone.org//NONSGML plone.app.event//EN
X-WR-TIMEZONE:Europe/Madrid
BEGIN:VEVENT
SUMMARY:L'Istiu 17 -Cia Circ Pistolet-
DTSTART;TZID=Europe/Madrid;VALUE=DATE-TIME:20170712T223000
DTEND;TZID=Europe/Madrid;VALUE=DATE-TIME:20170712T233000
DTSTAMP;VALUE=DATE-TIME:20260424T223529Z
UID:d3fe222a7dc465931e9bab0f0b24cd43
CREATED;VALUE=DATE-TIME:20170712T000000Z
CATEGORIES:Teatre
LOCATION:Índex. Servei de Joventut - Cr. Pompeu Fabra, 34
ORGANIZER:Regidoria de Joventut
COMMENT:Preu: Entrada gratuïta
DESCRIPTION:Un viatge en el temps a través dels records d'aquelles tardes de jocs i bones estones, a vegades rient, a vegades suant, però sempre gaudint, buscant la complicitat i l'equilibri fràgil entre dues persones.
URL:https://www.santsadurni.cat/document.php?id=9237
END:VEVENT
END:VCALENDAR