BEGIN:VCALENDAR
VERSION:2.0
PRODID:-//Plone.org//NONSGML plone.app.event//EN
X-WR-TIMEZONE:Europe/Madrid
BEGIN:VEVENT
SUMMARY:L'Istiu 17 -Dibusha Munshai-
DTSTART;TZID=Europe/Madrid;VALUE=DATE-TIME:20170713T223000
DTEND;TZID=Europe/Madrid;VALUE=DATE-TIME:20170713T233000
DTSTAMP;VALUE=DATE-TIME:20260424T212111Z
UID:0679001f545449c20178980cb9a6970f
CREATED;VALUE=DATE-TIME:20170713T000000Z
CATEGORIES:Música
LOCATION:Índex. Servei de Joventut - Cr. Pompeu Fabra, 34
ORGANIZER:Regidoria de Joventut
COMMENT:Preu: Entrada gratuïta
DESCRIPTION:La banda sadurninenca Dibusha Munshai presenta el seu àlbum debut Demencia en la Era Digital. Un disc que reflecteix un ampli rang d'emocions i estils diferents, sempre amb un rerafons de música urbana.
URL:https://www.santsadurni.cat/document.php?id=9238
END:VEVENT
END:VCALENDAR