BEGIN:VCALENDAR
VERSION:2.0
PRODID:-//Plone.org//NONSGML plone.app.event//EN
X-WR-TIMEZONE:Europe/Madrid
BEGIN:VEVENT
SUMMARY:Sortida de Turisme Cultural
DTSTART;TZID=Europe/Madrid;VALUE=DATE-TIME:20170713T000000
DTEND;TZID=Europe/Madrid;VALUE=DATE-TIME:20170713T010000
DTSTAMP;VALUE=DATE-TIME:20260424T234214Z
UID:10c959b81336c71ca9646079d858037f
CREATED;VALUE=DATE-TIME:20170706T000000Z
LOCATION:Viatge als Països Baixos
ORGANIZER:Associació de Jubilats de Sant Sadurní d'Anoia
DESCRIPTION:Viatge als Països Baixos: Bèlgica, Holanda i Luxemburg
URL:https://www.santsadurni.cat/document.php?id=9323
END:VEVENT
END:VCALENDAR