BEGIN:VCALENDAR
VERSION:2.0
PRODID:-//Plone.org//NONSGML plone.app.event//EN
X-WR-TIMEZONE:Europe/Madrid
BEGIN:VEVENT
SUMMARY:Holi Colours Festival
DTSTART;TZID=Europe/Madrid;VALUE=DATE-TIME:20170721T180000
DTEND;TZID=Europe/Madrid;VALUE=DATE-TIME:20170721T190000
DTSTAMP;VALUE=DATE-TIME:20260424T233741Z
UID:1e3f1cd8a470449ee378f34b3ae357bb
CREATED;VALUE=DATE-TIME:20170721T000000Z
CATEGORIES:Festa
LOCATION:Parc de la Rambla - Parc de la Rambla
ORGANIZER:Servei de Joventut i Holi Colours Festival
DESCRIPTION:Vine a la cloenda del Fesestiu de l'Índexjove
URL:https://www.santsadurni.cat/document.php?id=9378
END:VEVENT
END:VCALENDAR