BEGIN:VCALENDAR
VERSION:2.0
PRODID:-//Plone.org//NONSGML plone.app.event//EN
X-WR-TIMEZONE:Europe/Madrid
BEGIN:VEVENT
SUMMARY:Fi del curs d'informàtica "Retoc fotogràfic i presentacions digitals".
DTSTART;TZID=Europe/Madrid;VALUE=DATE-TIME:20170706T150000
DTEND;TZID=Europe/Madrid;VALUE=DATE-TIME:20170706T160000
DTSTAMP;VALUE=DATE-TIME:20260425T021724Z
UID:6234c6114d2cb9e9b3e041a0066823af
CREATED;VALUE=DATE-TIME:20170706T000000Z
CATEGORIES:Cursos
LOCATION:Casal Municipal de la Gent Gran Sant Sadurní - Ps. Can Ferrer 11
URL:https://www.santsadurni.cat/document.php?id=9381
END:VEVENT
END:VCALENDAR