BEGIN:VCALENDAR
VERSION:2.0
PRODID:-//Plone.org//NONSGML plone.app.event//EN
X-WR-TIMEZONE:Europe/Madrid
BEGIN:VEVENT
SUMMARY:Celebració del 25è aniversari del Centre Vilarnau
DTSTART;TZID=Europe/Madrid;VALUE=DATE-TIME:20170707T170000
DTEND;TZID=Europe/Madrid;VALUE=DATE-TIME:20170707T180000
DTSTAMP;VALUE=DATE-TIME:20260425T022258Z
UID:895fc0fe949c2e26af02c0afd764ff9e
CREATED;VALUE=DATE-TIME:20170707T000000Z
CATEGORIES:Festa
LOCATION:Centre Vilarnau - Pl. Germans Segura Viudas s/n
ORGANIZER:Ajuntament de Sant Sadurní d'Anoia. Departament d'Acció Social
COMMENT:Durada: De 17:00 a 20:00 hores
DESCRIPTION:Divendres, 7 de juliol de 17:00 a 20:00 hores
URL:https://www.santsadurni.cat/document.php?id=9392
END:VEVENT
END:VCALENDAR