BEGIN:VCALENDAR
VERSION:2.0
PRODID:-//Plone.org//NONSGML plone.app.event//EN
X-WR-TIMEZONE:Europe/Madrid
BEGIN:VEVENT
SUMMARY:7a Caminada eno·gastronòmica de Cal Feru
DTSTART;TZID=Europe/Madrid;VALUE=DATE-TIME:20170715T180000
DTEND;TZID=Europe/Madrid;VALUE=DATE-TIME:20170715T190000
DTSTAMP;VALUE=DATE-TIME:20260424T234137Z
UID:7f59c9e8510a77bce680326e442017ec
CREATED;VALUE=DATE-TIME:20170715T000000Z
CATEGORIES:Vins i caves,Gastronomia
LOCATION:Cal Feru eno·botiga
ORGANIZER:Cal Feru
COMMENT:Preu: 60
Durada: durada aproximada de 6 hores
DESCRIPTION:Gaudeix de la natura, el Cava i la gastronomia!
URL:https://www.santsadurni.cat/document.php?id=9402
END:VEVENT
END:VCALENDAR