BEGIN:VCALENDAR
VERSION:2.0
PRODID:-//Plone.org//NONSGML plone.app.event//EN
X-WR-TIMEZONE:Europe/Madrid
BEGIN:VEVENT
SUMMARY:Berenar-Espectacle inici Vacances
DTSTART;TZID=Europe/Madrid;VALUE=DATE-TIME:20170720T180000
DTEND;TZID=Europe/Madrid;VALUE=DATE-TIME:20170720T190000
DTSTAMP;VALUE=DATE-TIME:20260424T234052Z
UID:1cb002f2e0237f763f80b6e879cc9330
CREATED;VALUE=DATE-TIME:20170720T000000Z
CATEGORIES:Festa
LOCATION:Espai-Caixa. Carrer Sant Antoni
ORGANIZER:Associació de Jubilats de Sant Sadurní d'Anoia
COMMENT:Preu: sense preu
Durada: tarda
URL:https://www.santsadurni.cat/document.php?id=9409
END:VEVENT
END:VCALENDAR