BEGIN:VCALENDAR
VERSION:2.0
PRODID:-//Plone.org//NONSGML plone.app.event//EN
X-WR-TIMEZONE:Europe/Madrid
BEGIN:VEVENT
SUMMARY:Sopar fi de temporada Club Trekking Sant Sadurní
DTSTART;TZID=Europe/Madrid;VALUE=DATE-TIME:20170708T210000
DTEND;TZID=Europe/Madrid;VALUE=DATE-TIME:20170708T220000
DTSTAMP;VALUE=DATE-TIME:20260425T045423Z
UID:4a519588e978d739d9b1f4f49b07ad6f
CREATED;VALUE=DATE-TIME:20170708T000000Z
CATEGORIES:Festa
LOCATION:Can Mas de la Riera
ORGANIZER:C.E. Trekking Sant Sadurní
COMMENT:Preu: 12
DESCRIPTION:sopar de germanor
URL:https://www.santsadurni.cat/document.php?id=9413
END:VEVENT
END:VCALENDAR