BEGIN:VCALENDAR
VERSION:2.0
PRODID:-//Plone.org//NONSGML plone.app.event//EN
X-WR-TIMEZONE:Europe/Madrid
BEGIN:VEVENT
SUMMARY:Most d'estiu: El camino del vino
DTSTART;TZID=Europe/Madrid;VALUE=DATE-TIME:20170714T223000
DTEND;TZID=Europe/Madrid;VALUE=DATE-TIME:20170714T233000
DTSTAMP;VALUE=DATE-TIME:20260424T235132Z
UID:71f0c7be15eec2e57b04ee39f7e05c83
CREATED;VALUE=DATE-TIME:20170714T000000Z
CATEGORIES:Cinema
LOCATION:Pista del Centre
ORGANIZER:Regidoria de Cultura i Most, Festival Internacional de Cinema del Vi i el Cava
COMMENT:Preu: Gratuït
URL:https://www.santsadurni.cat/document.php?id=9421
END:VEVENT
END:VCALENDAR